BEGIN:VCALENDAR
VERSION:2.0
PRODID:-//University of St. Michael&#039;s College - ECPv6.15.20//NONSGML v1.0//EN
CALSCALE:GREGORIAN
METHOD:PUBLISH
X-ORIGINAL-URL:https://stmikes.utoronto.ca
X-WR-CALDESC:Events for University of St. Michael&#039;s College
REFRESH-INTERVAL;VALUE=DURATION:PT1H
X-Robots-Tag:noindex
X-PUBLISHED-TTL:PT1H
BEGIN:VTIMEZONE
TZID:America/Toronto
BEGIN:DAYLIGHT
TZOFFSETFROM:-0500
TZOFFSETTO:-0400
TZNAME:EDT
DTSTART:20240310T070000
END:DAYLIGHT
BEGIN:STANDARD
TZOFFSETFROM:-0400
TZOFFSETTO:-0500
TZNAME:EST
DTSTART:20241103T060000
END:STANDARD
BEGIN:DAYLIGHT
TZOFFSETFROM:-0500
TZOFFSETTO:-0400
TZNAME:EDT
DTSTART:20250309T070000
END:DAYLIGHT
BEGIN:STANDARD
TZOFFSETFROM:-0400
TZOFFSETTO:-0500
TZNAME:EST
DTSTART:20251102T060000
END:STANDARD
BEGIN:DAYLIGHT
TZOFFSETFROM:-0500
TZOFFSETTO:-0400
TZNAME:EDT
DTSTART:20260308T070000
END:DAYLIGHT
BEGIN:STANDARD
TZOFFSETFROM:-0400
TZOFFSETTO:-0500
TZNAME:EST
DTSTART:20261101T060000
END:STANDARD
END:VTIMEZONE
BEGIN:VEVENT
DTSTART;TZID=America/Toronto:20250601T180000
DTEND;TZID=America/Toronto:20250601T210000
DTSTAMP:20260421T171126
CREATED:20250505T172459Z
LAST-MODIFIED:20250505T172503Z
UID:10007410-1748800800-1748811600@stmikes.utoronto.ca
SUMMARY:Grappling Open Mat Class
DESCRIPTION:Open mat is unstructured mat time\, intended for participants to improve their grappling skills for whichever techniques they want. Participants of any level can come at any time during these sessions to use the space for rolling\, positional sparring\, drilling techniques\, or asking questions. There will be no formal lesson but experienced grappling club members will always be present to ensure safety\, answer any questions\, provide feedback\, and teach techniques as required. Participants of any experience level are welcome.  \n\n\n\nFollow @UofTGrapplingClub on Instagram to sign up and see the U of T Grappling Club’s updates. 
URL:https://stmikes.utoronto.ca/event/grappling-open-mat-class-2/2025-06-01
LOCATION:SMC Wellness Studio (81 St. Mary Street)\, 81 St. Mary Street\, Toronto\, Ontario\, M5S 1J4
CATEGORIES:Student Events Calendar,Wellness Events
END:VEVENT
BEGIN:VEVENT
DTSTART;TZID=America/Toronto:20250604T200000
DTEND;TZID=America/Toronto:20250604T230000
DTSTAMP:20260421T171126
CREATED:20250505T171620Z
LAST-MODIFIED:20250505T171624Z
UID:10007395-1749067200-1749078000@stmikes.utoronto.ca
SUMMARY:Grappling Open Mat Class
DESCRIPTION:Open mat is unstructured mat time\, intended for participants to improve their grappling skills for whichever techniques they want. Participants of any level can come at any time during these sessions to use the space for rolling\, positional sparring\, drilling techniques\, or asking questions. There will be no formal lesson but experienced grappling club members will always be present to ensure safety\, answer any questions\, provide feedback\, and teach techniques as required. Participants of any experience level are welcome.  \n\n\n\nFollow @UofTGrapplingClub on Instagram to sign up and see the U of T Grappling Club’s updates. 
URL:https://stmikes.utoronto.ca/event/grappling-open-mat-class/2025-06-04
LOCATION:SMC Wellness Studio (81 St. Mary Street)\, 81 St. Mary Street\, Toronto\, Ontario\, M5S 1J4
CATEGORIES:Student Events Calendar,Wellness Events
END:VEVENT
BEGIN:VEVENT
DTSTART;TZID=America/Toronto:20250607T190000
DTEND;TZID=America/Toronto:20250607T200000
DTSTAMP:20260421T171126
CREATED:20250515T164754Z
LAST-MODIFIED:20250515T164758Z
UID:10007429-1749322800-1749326400@stmikes.utoronto.ca
SUMMARY:Grappling Beginner Class
DESCRIPTION:Participants will be taught the fundamentals of Brazilian Jiu-Jitsu as well as wrestling and judo takedowns in a safe and controlled environment. Learn how to defend yourself or control and submit opponents by utilizing leverage and technique. Great for building confidence\, having fun\, improving fitness\, and self defense. Beginner friendly and no experience required. Please wear comfortable clothing that allows for ease of movement.   \n\n\n\nFollow @UofTGrapplingClub on Instagram to sign up and see updates.
URL:https://stmikes.utoronto.ca/event/grappling-beginner-class/2025-06-07
LOCATION:SMC Wellness Studio (81 St. Mary Street)\, 81 St. Mary Street\, Toronto\, Ontario\, M5S 1J4
CATEGORIES:Student Events Calendar,Wellness Events
END:VEVENT
BEGIN:VEVENT
DTSTART;TZID=America/Toronto:20250607T200000
DTEND;TZID=America/Toronto:20250607T210000
DTSTAMP:20260421T171126
CREATED:20250515T165037Z
LAST-MODIFIED:20250515T165041Z
UID:10007445-1749326400-1749330000@stmikes.utoronto.ca
SUMMARY:Grappling Open Mat Class
DESCRIPTION:Participants will be taught the fundamentals of Brazilian Jiu-Jitsu as well as wrestling and judo takedowns in a safe and controlled environment. Learn how to defend yourself or control and submit opponents by utilizing leverage and technique. Great for building confidence\, having fun\, improving fitness\, and self defense. Please wear comfortable clothing that allows for ease of movement.   \n\n\n\nFollow @UofTGrapplingClub on Instagram to sign up and see updates.
URL:https://stmikes.utoronto.ca/event/grappling-open-mat-class-3/2025-06-07
LOCATION:SMC Wellness Studio (81 St. Mary Street)\, 81 St. Mary Street\, Toronto\, Ontario\, M5S 1J4
CATEGORIES:Student Events Calendar,Wellness Events
END:VEVENT
BEGIN:VEVENT
DTSTART;TZID=America/Toronto:20250608T180000
DTEND;TZID=America/Toronto:20250608T210000
DTSTAMP:20260421T171126
CREATED:20250505T172459Z
LAST-MODIFIED:20250505T172503Z
UID:10007411-1749405600-1749416400@stmikes.utoronto.ca
SUMMARY:Grappling Open Mat Class
DESCRIPTION:Open mat is unstructured mat time\, intended for participants to improve their grappling skills for whichever techniques they want. Participants of any level can come at any time during these sessions to use the space for rolling\, positional sparring\, drilling techniques\, or asking questions. There will be no formal lesson but experienced grappling club members will always be present to ensure safety\, answer any questions\, provide feedback\, and teach techniques as required. Participants of any experience level are welcome.  \n\n\n\nFollow @UofTGrapplingClub on Instagram to sign up and see the U of T Grappling Club’s updates. 
URL:https://stmikes.utoronto.ca/event/grappling-open-mat-class-2/2025-06-08
LOCATION:SMC Wellness Studio (81 St. Mary Street)\, 81 St. Mary Street\, Toronto\, Ontario\, M5S 1J4
CATEGORIES:Student Events Calendar,Wellness Events
END:VEVENT
BEGIN:VEVENT
DTSTART;TZID=America/Toronto:20250610T150000
DTEND;TZID=America/Toronto:20250610T173000
DTSTAMP:20260421T171126
CREATED:20241205T180305Z
LAST-MODIFIED:20251007T191037Z
UID:10006984-1749567600-1749576600@stmikes.utoronto.ca
SUMMARY:Fourth Regular Collegium Meeting
DESCRIPTION:Charbonnel Lounge
URL:https://stmikes.utoronto.ca/event/fourth-regular-collegium-meeting-2
LOCATION:Charbonnel Lounge\, 81 St. Mary St.\, Toronto\, Ontario\, M5S1J4\, Canada
CATEGORIES:Collegium
ATTACH;FMTTYPE=image/jpeg:https://stmikes.utoronto.ca/wp-content/uploads/2021/01/USMC-crest-portrait.jpeg
GEO:43.6666468;-79.3904212
X-APPLE-STRUCTURED-LOCATION;VALUE=URI;X-ADDRESS=Charbonnel Lounge 81 St. Mary St. Toronto Ontario M5S1J4 Canada;X-APPLE-RADIUS=500;X-TITLE=81 St. Mary St.:geo:-79.3904212,43.6666468
END:VEVENT
BEGIN:VEVENT
DTSTART;TZID=America/Toronto:20250611T200000
DTEND;TZID=America/Toronto:20250611T230000
DTSTAMP:20260421T171126
CREATED:20250505T171620Z
LAST-MODIFIED:20250505T171624Z
UID:10007396-1749672000-1749682800@stmikes.utoronto.ca
SUMMARY:Grappling Open Mat Class
DESCRIPTION:Open mat is unstructured mat time\, intended for participants to improve their grappling skills for whichever techniques they want. Participants of any level can come at any time during these sessions to use the space for rolling\, positional sparring\, drilling techniques\, or asking questions. There will be no formal lesson but experienced grappling club members will always be present to ensure safety\, answer any questions\, provide feedback\, and teach techniques as required. Participants of any experience level are welcome.  \n\n\n\nFollow @UofTGrapplingClub on Instagram to sign up and see the U of T Grappling Club’s updates. 
URL:https://stmikes.utoronto.ca/event/grappling-open-mat-class/2025-06-11
LOCATION:SMC Wellness Studio (81 St. Mary Street)\, 81 St. Mary Street\, Toronto\, Ontario\, M5S 1J4
CATEGORIES:Student Events Calendar,Wellness Events
END:VEVENT
BEGIN:VEVENT
DTSTART;TZID=America/Toronto:20250613T000000
DTEND;TZID=America/Toronto:20250613T235959
DTSTAMP:20260421T171126
CREATED:20250513T130512Z
LAST-MODIFIED:20250513T130557Z
UID:10007424-1749772800-1749859199@stmikes.utoronto.ca
SUMMARY:Convocation
DESCRIPTION:Congratulations to the class of 2025! \n\n\n\nRecommended route to Myhal Centre and Convocation Hall via Hoskin Ave to St. George St\, then south to Myhal. \n\n\n\nImmediately after Convocation\, there’s a whirlwind of excitement\, and most graduates will be trying to find their guests outside of Convocation Hall to gather for group pictures. But why limit photos to one location when the St. Mike’s campus is right across the park? \n\n\n\nThe University of St. Michael’s College with its historic buildings\, burgeoning gardens\, and unique landmarks is a vibrant and welcoming oasis in the heart of the city. Tucked between St. Mary and St. Joseph streets\, and bordered by Bay Street on the east\, and Queen’s Park Crescent on the west\, the campus grounds offer remarkably photogenic locations — and an ideal backdrop for Convocation photos\, complete with a Graduates & Family BBQ\, beginning at 12 p.m. Register online. \n\n\n\nVisit our Convocation Hub for details and registration information.
URL:https://stmikes.utoronto.ca/event/convocation
LOCATION:ON
CATEGORIES:Convocation
ATTACH;FMTTYPE=image/jpeg:https://stmikes.utoronto.ca/wp-content/uploads/2021/06/cap-gown-mace-stmichaels-college.jpg
END:VEVENT
BEGIN:VEVENT
DTSTART;TZID=America/Toronto:20250614T190000
DTEND;TZID=America/Toronto:20250614T200000
DTSTAMP:20260421T171126
CREATED:20250515T164754Z
LAST-MODIFIED:20250515T164758Z
UID:10007430-1749927600-1749931200@stmikes.utoronto.ca
SUMMARY:Grappling Beginner Class
DESCRIPTION:Participants will be taught the fundamentals of Brazilian Jiu-Jitsu as well as wrestling and judo takedowns in a safe and controlled environment. Learn how to defend yourself or control and submit opponents by utilizing leverage and technique. Great for building confidence\, having fun\, improving fitness\, and self defense. Beginner friendly and no experience required. Please wear comfortable clothing that allows for ease of movement.   \n\n\n\nFollow @UofTGrapplingClub on Instagram to sign up and see updates.
URL:https://stmikes.utoronto.ca/event/grappling-beginner-class/2025-06-14
LOCATION:SMC Wellness Studio (81 St. Mary Street)\, 81 St. Mary Street\, Toronto\, Ontario\, M5S 1J4
CATEGORIES:Student Events Calendar,Wellness Events
END:VEVENT
BEGIN:VEVENT
DTSTART;TZID=America/Toronto:20250614T200000
DTEND;TZID=America/Toronto:20250614T210000
DTSTAMP:20260421T171126
CREATED:20250515T165037Z
LAST-MODIFIED:20250515T165041Z
UID:10007446-1749931200-1749934800@stmikes.utoronto.ca
SUMMARY:Grappling Open Mat Class
DESCRIPTION:Participants will be taught the fundamentals of Brazilian Jiu-Jitsu as well as wrestling and judo takedowns in a safe and controlled environment. Learn how to defend yourself or control and submit opponents by utilizing leverage and technique. Great for building confidence\, having fun\, improving fitness\, and self defense. Please wear comfortable clothing that allows for ease of movement.   \n\n\n\nFollow @UofTGrapplingClub on Instagram to sign up and see updates.
URL:https://stmikes.utoronto.ca/event/grappling-open-mat-class-3/2025-06-14
LOCATION:SMC Wellness Studio (81 St. Mary Street)\, 81 St. Mary Street\, Toronto\, Ontario\, M5S 1J4
CATEGORIES:Student Events Calendar,Wellness Events
END:VEVENT
BEGIN:VEVENT
DTSTART;TZID=America/Toronto:20250615T180000
DTEND;TZID=America/Toronto:20250615T210000
DTSTAMP:20260421T171126
CREATED:20250505T172459Z
LAST-MODIFIED:20250505T172503Z
UID:10007412-1750010400-1750021200@stmikes.utoronto.ca
SUMMARY:Grappling Open Mat Class
DESCRIPTION:Open mat is unstructured mat time\, intended for participants to improve their grappling skills for whichever techniques they want. Participants of any level can come at any time during these sessions to use the space for rolling\, positional sparring\, drilling techniques\, or asking questions. There will be no formal lesson but experienced grappling club members will always be present to ensure safety\, answer any questions\, provide feedback\, and teach techniques as required. Participants of any experience level are welcome.  \n\n\n\nFollow @UofTGrapplingClub on Instagram to sign up and see the U of T Grappling Club’s updates. 
URL:https://stmikes.utoronto.ca/event/grappling-open-mat-class-2/2025-06-15
LOCATION:SMC Wellness Studio (81 St. Mary Street)\, 81 St. Mary Street\, Toronto\, Ontario\, M5S 1J4
CATEGORIES:Student Events Calendar,Wellness Events
END:VEVENT
BEGIN:VEVENT
DTSTART;TZID=America/Toronto:20250618T200000
DTEND;TZID=America/Toronto:20250618T230000
DTSTAMP:20260421T171126
CREATED:20250505T171620Z
LAST-MODIFIED:20250505T171624Z
UID:10007397-1750276800-1750287600@stmikes.utoronto.ca
SUMMARY:Grappling Open Mat Class
DESCRIPTION:Open mat is unstructured mat time\, intended for participants to improve their grappling skills for whichever techniques they want. Participants of any level can come at any time during these sessions to use the space for rolling\, positional sparring\, drilling techniques\, or asking questions. There will be no formal lesson but experienced grappling club members will always be present to ensure safety\, answer any questions\, provide feedback\, and teach techniques as required. Participants of any experience level are welcome.  \n\n\n\nFollow @UofTGrapplingClub on Instagram to sign up and see the U of T Grappling Club’s updates. 
URL:https://stmikes.utoronto.ca/event/grappling-open-mat-class/2025-06-18
LOCATION:SMC Wellness Studio (81 St. Mary Street)\, 81 St. Mary Street\, Toronto\, Ontario\, M5S 1J4
CATEGORIES:Student Events Calendar,Wellness Events
END:VEVENT
BEGIN:VEVENT
DTSTART;TZID=America/Toronto:20250621T093000
DTEND;TZID=America/Toronto:20250621T160000
DTSTAMP:20260421T171126
CREATED:20250609T161800Z
LAST-MODIFIED:20250609T161804Z
UID:10007462-1750498200-1750521600@stmikes.utoronto.ca
SUMMARY:Welcome Day
DESCRIPTION:The University of St. Michael’s College cordially invites newly admitted students joining SMC in September 2025 to our Welcome Day on Saturday\, June 21\, 2025. \n\n\n\n \n\n\n\n\nIncoming students will have the opportunity to acquaint themselves with our college.\n\n\n\nMeet upper-year students and staff.\n\n\n\nReceive information about course selection\, fees\, financial aid\, student services\, residence life\, the Writing Centre\, the Academic Success Centre\, including Writing and Research Help\, the John M. Kelly Library\, SMC Ones\, SMC Programs\, and other campus resources.\n\n\n\nTour the campus.
URL:https://stmikes.utoronto.ca/event/welcome-day
LOCATION:ON
CATEGORIES:Undergraduate
ATTACH;FMTTYPE=image/jpeg:https://stmikes.utoronto.ca/wp-content/uploads/2025/06/brennan-hall.jpg
END:VEVENT
BEGIN:VEVENT
DTSTART;TZID=America/Toronto:20250621T190000
DTEND;TZID=America/Toronto:20250621T200000
DTSTAMP:20260421T171126
CREATED:20250515T164754Z
LAST-MODIFIED:20250515T164758Z
UID:10007431-1750532400-1750536000@stmikes.utoronto.ca
SUMMARY:Grappling Beginner Class
DESCRIPTION:Participants will be taught the fundamentals of Brazilian Jiu-Jitsu as well as wrestling and judo takedowns in a safe and controlled environment. Learn how to defend yourself or control and submit opponents by utilizing leverage and technique. Great for building confidence\, having fun\, improving fitness\, and self defense. Beginner friendly and no experience required. Please wear comfortable clothing that allows for ease of movement.   \n\n\n\nFollow @UofTGrapplingClub on Instagram to sign up and see updates.
URL:https://stmikes.utoronto.ca/event/grappling-beginner-class/2025-06-21
LOCATION:SMC Wellness Studio (81 St. Mary Street)\, 81 St. Mary Street\, Toronto\, Ontario\, M5S 1J4
CATEGORIES:Student Events Calendar,Wellness Events
END:VEVENT
BEGIN:VEVENT
DTSTART;TZID=America/Toronto:20250621T200000
DTEND;TZID=America/Toronto:20250621T210000
DTSTAMP:20260421T171126
CREATED:20250515T165037Z
LAST-MODIFIED:20250515T165041Z
UID:10007447-1750536000-1750539600@stmikes.utoronto.ca
SUMMARY:Grappling Open Mat Class
DESCRIPTION:Participants will be taught the fundamentals of Brazilian Jiu-Jitsu as well as wrestling and judo takedowns in a safe and controlled environment. Learn how to defend yourself or control and submit opponents by utilizing leverage and technique. Great for building confidence\, having fun\, improving fitness\, and self defense. Please wear comfortable clothing that allows for ease of movement.   \n\n\n\nFollow @UofTGrapplingClub on Instagram to sign up and see updates.
URL:https://stmikes.utoronto.ca/event/grappling-open-mat-class-3/2025-06-21
LOCATION:SMC Wellness Studio (81 St. Mary Street)\, 81 St. Mary Street\, Toronto\, Ontario\, M5S 1J4
CATEGORIES:Student Events Calendar,Wellness Events
END:VEVENT
BEGIN:VEVENT
DTSTART;TZID=America/Toronto:20250622T180000
DTEND;TZID=America/Toronto:20250622T210000
DTSTAMP:20260421T171126
CREATED:20250505T172459Z
LAST-MODIFIED:20250505T172503Z
UID:10007413-1750615200-1750626000@stmikes.utoronto.ca
SUMMARY:Grappling Open Mat Class
DESCRIPTION:Open mat is unstructured mat time\, intended for participants to improve their grappling skills for whichever techniques they want. Participants of any level can come at any time during these sessions to use the space for rolling\, positional sparring\, drilling techniques\, or asking questions. There will be no formal lesson but experienced grappling club members will always be present to ensure safety\, answer any questions\, provide feedback\, and teach techniques as required. Participants of any experience level are welcome.  \n\n\n\nFollow @UofTGrapplingClub on Instagram to sign up and see the U of T Grappling Club’s updates. 
URL:https://stmikes.utoronto.ca/event/grappling-open-mat-class-2/2025-06-22
LOCATION:SMC Wellness Studio (81 St. Mary Street)\, 81 St. Mary Street\, Toronto\, Ontario\, M5S 1J4
CATEGORIES:Student Events Calendar,Wellness Events
END:VEVENT
BEGIN:VEVENT
DTSTART;TZID=America/Toronto:20250625T200000
DTEND;TZID=America/Toronto:20250625T230000
DTSTAMP:20260421T171126
CREATED:20250505T171620Z
LAST-MODIFIED:20250505T171624Z
UID:10007398-1750881600-1750892400@stmikes.utoronto.ca
SUMMARY:Grappling Open Mat Class
DESCRIPTION:Open mat is unstructured mat time\, intended for participants to improve their grappling skills for whichever techniques they want. Participants of any level can come at any time during these sessions to use the space for rolling\, positional sparring\, drilling techniques\, or asking questions. There will be no formal lesson but experienced grappling club members will always be present to ensure safety\, answer any questions\, provide feedback\, and teach techniques as required. Participants of any experience level are welcome.  \n\n\n\nFollow @UofTGrapplingClub on Instagram to sign up and see the U of T Grappling Club’s updates. 
URL:https://stmikes.utoronto.ca/event/grappling-open-mat-class/2025-06-25
LOCATION:SMC Wellness Studio (81 St. Mary Street)\, 81 St. Mary Street\, Toronto\, Ontario\, M5S 1J4
CATEGORIES:Student Events Calendar,Wellness Events
END:VEVENT
BEGIN:VEVENT
DTSTART;TZID=America/Toronto:20250627T200000
DTEND;TZID=America/Toronto:20250627T220000
DTSTAMP:20260421T171126
CREATED:20241202T184103Z
LAST-MODIFIED:20250410T204035Z
UID:10007318-1751054400-1751061600@stmikes.utoronto.ca
SUMMARY:Niten Ichi Ryu Martial Arts
DESCRIPTION:Niten Ichi Ryu is the pre-Meiji restoration koryu martial art of classical Japanese sword (kenjutsu) founded by Miyamoto Musashi. Best known as a school that uses two swords\, the introductory curriculum focuses on basics of movement\, and the long sword (tachi). Prospective students should wear clothing that allows for ease of movement in class.  \n\n\n\nThe SMC Wellness Studio can be found on the ground floor of Elmsley Hall (81 St. Mary Street)\, across from the Coop Patio. \n\n\n\nNo pre-registration required. Express interest here: https://form.jotform.com/222014197840047
URL:https://stmikes.utoronto.ca/event/niten-ichi-ryu-martial-arts-13/2025-06-27
LOCATION:SMC Wellness Studio (81 St. Mary Street)\, 81 St. Mary Street\, Toronto\, Ontario\, M5S 1J4
CATEGORIES:Student Events Calendar,Wellness Events
END:VEVENT
BEGIN:VEVENT
DTSTART;TZID=America/Toronto:20250628T190000
DTEND;TZID=America/Toronto:20250628T200000
DTSTAMP:20260421T171126
CREATED:20250515T164754Z
LAST-MODIFIED:20250515T164758Z
UID:10007432-1751137200-1751140800@stmikes.utoronto.ca
SUMMARY:Grappling Beginner Class
DESCRIPTION:Participants will be taught the fundamentals of Brazilian Jiu-Jitsu as well as wrestling and judo takedowns in a safe and controlled environment. Learn how to defend yourself or control and submit opponents by utilizing leverage and technique. Great for building confidence\, having fun\, improving fitness\, and self defense. Beginner friendly and no experience required. Please wear comfortable clothing that allows for ease of movement.   \n\n\n\nFollow @UofTGrapplingClub on Instagram to sign up and see updates.
URL:https://stmikes.utoronto.ca/event/grappling-beginner-class/2025-06-28
LOCATION:SMC Wellness Studio (81 St. Mary Street)\, 81 St. Mary Street\, Toronto\, Ontario\, M5S 1J4
CATEGORIES:Student Events Calendar,Wellness Events
END:VEVENT
BEGIN:VEVENT
DTSTART;TZID=America/Toronto:20250628T200000
DTEND;TZID=America/Toronto:20250628T210000
DTSTAMP:20260421T171126
CREATED:20250515T165037Z
LAST-MODIFIED:20250515T165041Z
UID:10007448-1751140800-1751144400@stmikes.utoronto.ca
SUMMARY:Grappling Open Mat Class
DESCRIPTION:Participants will be taught the fundamentals of Brazilian Jiu-Jitsu as well as wrestling and judo takedowns in a safe and controlled environment. Learn how to defend yourself or control and submit opponents by utilizing leverage and technique. Great for building confidence\, having fun\, improving fitness\, and self defense. Please wear comfortable clothing that allows for ease of movement.   \n\n\n\nFollow @UofTGrapplingClub on Instagram to sign up and see updates.
URL:https://stmikes.utoronto.ca/event/grappling-open-mat-class-3/2025-06-28
LOCATION:SMC Wellness Studio (81 St. Mary Street)\, 81 St. Mary Street\, Toronto\, Ontario\, M5S 1J4
CATEGORIES:Student Events Calendar,Wellness Events
END:VEVENT
BEGIN:VEVENT
DTSTART;TZID=America/Toronto:20250629T180000
DTEND;TZID=America/Toronto:20250629T210000
DTSTAMP:20260421T171126
CREATED:20250505T172459Z
LAST-MODIFIED:20250505T172503Z
UID:10007414-1751220000-1751230800@stmikes.utoronto.ca
SUMMARY:Grappling Open Mat Class
DESCRIPTION:Open mat is unstructured mat time\, intended for participants to improve their grappling skills for whichever techniques they want. Participants of any level can come at any time during these sessions to use the space for rolling\, positional sparring\, drilling techniques\, or asking questions. There will be no formal lesson but experienced grappling club members will always be present to ensure safety\, answer any questions\, provide feedback\, and teach techniques as required. Participants of any experience level are welcome.  \n\n\n\nFollow @UofTGrapplingClub on Instagram to sign up and see the U of T Grappling Club’s updates. 
URL:https://stmikes.utoronto.ca/event/grappling-open-mat-class-2/2025-06-29
LOCATION:SMC Wellness Studio (81 St. Mary Street)\, 81 St. Mary Street\, Toronto\, Ontario\, M5S 1J4
CATEGORIES:Student Events Calendar,Wellness Events
END:VEVENT
END:VCALENDAR